BEGIN:VCALENDAR
VERSION:2.0
PRODID:-//ChamberMaster//Event Calendar 2.0//EN
METHOD:PUBLISH
X-PUBLISHED-TTL:P3D
REFRESH-INTERVAL:P3D
CALSCALE:GREGORIAN
BEGIN:VEVENT
DTSTART:20190310T233000Z
DTEND:20190311T013000Z
X-MICROSOFT-CDO-ALLDAYEVENT:FALSE
SUMMARY:Scout & Cellar Opportunity Event
DESCRIPTION:Have you ever thought about joining the wine business!?\n\nNow's your chance! Scout & Cellar is a ground breaking company that is disrupting the wine business across the United States! Our goal for 2018 was $5M in sales and we hit $20M on December 31st!! We're just over a year old and breaking records!\n\nIf you LOVE wine\, LOVE people\, LOVE living a healthy lifestyle\, Scout & Cellar might be the right fit for you! I would LOVE to personally invite you to an opportunity event on January 27th in Maple Valley. In this no pressure environment\, you get to taste the wine\, get all of your questions answered\, and build relationships with local consultants!\n\n\nClean-Crafted Certified Bottles mean...\n\n\n	NO added sugars\n	NO added chemicals\n	KETO friendly\n	PALEO friendly\n	GLUTEN FREE\n	MOST of our wines are even VEGAN\n\n\nHow can being a consultant for Scout & Cellar help your existing business?\n\n\n	BUILD CUSTOMER RELATIONSHIPS\n	\n		Quality face time with your customers\n		Unique & memorable customer appreciation events\n		Low-cost entertaining evenings\n		Healthy corporate gifting\n	\n	\n	TEAM BUILDING\n	\n		Fun & educational events\n		Relaxed social environment\n		Events that spouses can enjoy\n		Low cost team building events\n		Great way to do networking events\n	\n	\n\n\nRSVP here: goo.gl/W9guAS and tell them Jessica Clements sent you!\n\nFor a sneek peek about the company watch this video: https://youtu.be/2XmemhdKJjE\n\nHope to see you on the 10th!
X-ALT-DESC;FMTTYPE=text/html:<p><span style="color:inherit\; font-family:inherit\; font-size:20px"><u><span style="color:inherit\; font-family:inherit\; font-size:inherit">Have you ever thought about joining the wine business!?</span></u></span></p>\n\n<p>Now&#39\;s your chance! Scout &amp\; Cellar is a ground breaking company that is disrupting the wine business across the United States! Our goal for 2018 was $5M in sales and we hit $20M on December 31st!! We&#39\;re just over a year old and breaking records!</p>\n\n<p>If you LOVE wine\, LOVE people\, LOVE living a healthy lifestyle\, Scout &amp\; Cellar might be the right fit for you! I would LOVE to personally invite you to an opportunity event on Jan<span style="color:inherit">uary 27th in Maple Valley. In this no pressure environment\, you get to taste the wine\, get all of your questions answered\, and build relationships with local consultants!</span></p>\n\n<div style="background:none\; border:none\; padding:0px">\n<p style="text-align:inherit"><span style="color:inherit\; font-family:inherit\; font-size:inherit"><u>Clean-Crafted Certified Bottles mean...</u></span></p>\n\n<ul>\n	<li>NO added sugars</li>\n	<li>NO added chemicals</li>\n	<li>KETO friendly</li>\n	<li>PALEO friendly</li>\n	<li>GLUTEN FREE</li>\n	<li>MOST of our wines are even VEGAN</li>\n</ul>\n\n<p style="text-align:inherit"><span style="color:inherit\; font-family:inherit\; font-size:18px"><u><span style="color:inherit\; font-family:inherit\; font-size:inherit">How can being a consultant for Scout &amp\; Cellar help your existing business?</span></u></span></p>\n\n<ul>\n	<li>BUILD CUSTOMER RELATIONSHIPS\n	<ul>\n		<li>Quality face time with your customers</li>\n		<li>Unique &amp\; memorable customer appreciation events</li>\n		<li>Low-cost entertaining evenings</li>\n		<li>Healthy corporate gifting</li>\n	</ul>\n	</li>\n	<li>TEAM BUILDING\n	<ul>\n		<li>Fun &amp\; educational events</li>\n		<li>Relaxed social environment</li>\n		<li>Events that spouses can enjoy</li>\n		<li>Low cost team building events</li>\n		<li>Great way to do networking events</li>\n	</ul>\n	</li>\n</ul>\n\n<p style="text-align:inherit">RSVP here:&nbsp\;<a href="http://goo.gl/W9guAS">goo.gl/W9guAS</a> and tell them Jessica Clements sent you!</p>\n\n<p style="text-align:inherit">For a sneek peek about the company watch this video:&nbsp\;<a href="https://l.facebook.com/l.php?u=https%3A%2F%2Fyoutu.be%2F2XmemhdKJjE%3Ffbclid%3DIwAR0XCF18piqECqIFw-AbgW4kQrf4pwyEBHSZl5vj4P7nSGQHqandjSY1934&amp\;h=AT1MCXo1LWmCPz8ePXPbS_xUxqQnHDsxhMw_-GEVMwsLxUiXNAKRHSQUgmRjGevW3P0BSHqP1ranGhncN9aWRFXXKVvPsaZeNSes30uZAGTOgA1BlOc5TApN5blCV9jL5gTVeQ_9SEkkawYVlc84KsxYjN9plpwTxtrGlIdO9ARzNi1wO5g5l5IfEZqir5K2lD0SJtCL8on1tlgyPqINWJqfjFXkd0GmMUtagyxC58UUnuTelQ7xqJbOtcZb1QQtle5UjOIgUJHX9e4z9UCRILbPdtJBlRarnrvVIie-l6N-KBY2vP_7Xn7Znv5t-qE7ozcjwRVfipjxiJXxZgfWAf2QAk--Ri2MYFI7bbfg6z_ChyNx5uCWuof2YkrC5Y6sUt-FUzfk4EQJkDQGz6NNZrPNsWe2a55wz6iE2mKK8FZsBO0pCn6a1l5-dqYX3IHECVEMaa0g7diNPxYhKX66jzzR49TnU_CHoyqdnUEE0TOrurxFNbxvq5VyVIDBB-kas6JcmlN8Tod-_Tp985EA0Gl3SbztEwWeyQyNexOVOqOLaCk81MdLCvYudu6Z8y29VkbSmbyL4e76RUU0X_VuCqw4nG4Vql42vnCp8hVXPjmifjSw7kRzWrpBKM8wa-g" rel="noopener nofollow" style="bottom: auto\; box-sizing: content-box\; clear: none\; color: rgb(54\, 88\, 153)\; content: normal\; direction: inherit\; display: inline\; empty-cells: show\; float: none\; font: inherit\; left: auto\; letter-spacing: inherit\; margin: 0px\; max-height: none\; max-width: none\; min-height: initial\; min-width: initial\; opacity: 1\; outline-offset: 0px\; overflow: visible\; padding: 0px\; position: static\; resize: none\; right: auto\; table-layout: auto\; text-align: inherit\; text-decoration-line: none\; text-indent: inherit\; text-overflow: clip\; text-transform: inherit\; top: auto\; vertical-align: baseline\; visibility: inherit\; white-space: inherit\; word-break: inherit\; word-spacing: inherit\; overflow-wrap: break-word\; z-index: auto\; background: none\; border: none\; border-collapse: separate\; border-radius: 0px\; height: auto\; width: auto\; box-shadow: none\; cursor: pointer\;" target="_blank">https://youtu.be/2XmemhdKJjE</a></p>\n\n<p style="text-align:inherit">Hope to see you on the 10th!</p>\n</div>\n
LOCATION:27474 214th AVE SE Maple Valley\, WA 98038
UID:e.16.6250
SEQUENCE:3
DTSTAMP:20260424T075713Z
URL:https://chamber.gorenton.com/events/details/scout-cellar-opportunity-event-03-10-2019-6250
END:VEVENT

END:VCALENDAR
