BEGIN:VCALENDAR
VERSION:2.0
PRODID:-//ChamberMaster//Event Calendar 2.0//EN
METHOD:PUBLISH
X-PUBLISHED-TTL:P3D
REFRESH-INTERVAL:P3D
CALSCALE:GREGORIAN
BEGIN:VEVENT
DTSTART:20220303T233000Z
DTEND:20220304T003000Z
X-MICROSOFT-CDO-ALLDAYEVENT:FALSE
SUMMARY:Seattle JACL: 100 Years of History and Activism hosted at The Lakeshore
DESCRIPTION:Seattle JACL (Japanese American Citizens League) turned 100 in September 2021. Join us on March 3rd\, when Chapter speakers will present on pivotal programs and leaders\, speak to Seattle's role in the campaign for redress of WWII government injustices\, and current programs. This presentation will walk through the history and engage participants in a conversation on Seattle JACL: 100 Years of Advocacy and Activism.\n\n\n\nFollowing the program\, from March 3- 31\, The Lakeshore will continue to host an exhibit of JACL's display screens to honor the chapter's history and legacy. This exhibit will showcase their accomplishments and acknowledge the impact of their visionary leaders. Exhibit doors will be open to the public from 11am to 4pm\, Monday thru Saturday from March 3-31. \n\n\n\nFor the March 3rd event\, please RSVP at (206) 772-1200. Space is limited. Vaccination and Masks Required. Thank you.
X-ALT-DESC;FMTTYPE=text/html:Seattle JACL (Japanese American Citizens League) turned 100 in September 2021. Join us on March 3rd\, when Chapter speakers will present on pivotal programs and leaders\, speak to Seattle&rsquo\;s role in the campaign for redress of WWII government injustices\, and current programs. This presentation will walk through the history and engage participants in a conversation on Seattle JACL: 100 Years of Advocacy and Activism.<br />\n<br />\nFollowing the program\, from March 3- 31\, The Lakeshore will continue to host an exhibit of JACL&#39\;s display screens to honor the chapter&rsquo\;s history and legacy. This exhibit will showcase their accomplishments and acknowledge the impact of their visionary leaders.&nbsp\;Exhibit doors will be open to the public from 11am to 4pm\, Monday thru Saturday from March 3-31.&nbsp\;<br />\n<br />\nFor the March 3rd event\, please RSVP at (206) 772-1200. Space is limited. Vaccination and Masks Required. Thank you.
LOCATION:The Lakeshore Retirement Community
UID:e.16.11412
SEQUENCE:3
DTSTAMP:20260420T030449Z
URL:https://chamber.gorenton.com/events/details/seattle-jacl-100-years-of-history-and-activism-hosted-at-the-lakeshore-11412
END:VEVENT

END:VCALENDAR
