BEGIN:VCALENDAR
VERSION:2.0
PRODID:-//ChamberMaster//Event Calendar 2.0//EN
METHOD:PUBLISH
X-PUBLISHED-TTL:P3D
REFRESH-INTERVAL:P3D
CALSCALE:GREGORIAN
BEGIN:VEVENT
DTSTART:20181214T030000Z
DTEND:20181214T043000Z
X-MICROSOFT-CDO-ALLDAYEVENT:FALSE
SUMMARY:Seattle Now & Then Book Talk and Signing
DESCRIPTION:Join author Paul Dorpat for a book signing of his newly released coffee-tablebook Seattle Now & Then: The Historic Hundred. The book is a compilation of the most compelling of Dorpat's essays for the Sunday Magazine of The Seattle Times.
X-ALT-DESC;FMTTYPE=text/html:Join author Paul Dorpat for a book signing of his newly released coffee-tablebook Seattle Now &amp\; Then: The Historic Hundred. The book is a compilation of the most compelling of Dorpat&#39\;s essays for the Sunday Magazine of The Seattle Times.
LOCATION:Renton History Museum 235 Mill Ave. S. Renton\, WA 98057
UID:e.16.5980
SEQUENCE:3
DTSTAMP:20260424T122145Z
URL:https://chamber.gorenton.com/events/details/seattle-now-then-book-talk-and-signing-5980
END:VEVENT

END:VCALENDAR
