BEGIN:VCALENDAR
VERSION:2.0
PRODID:-//ChamberMaster//Event Calendar 2.0//EN
METHOD:PUBLISH
X-PUBLISHED-TTL:P3D
REFRESH-INTERVAL:P3D
CALSCALE:GREGORIAN
BEGIN:VEVENT
DTSTART:20190622T180000Z
DTEND:20190622T200000Z
X-MICROSOFT-CDO-ALLDAYEVENT:FALSE
SUMMARY:Seattle-Tacoma Regional Group of the Horseless Carriage Club of America Car Show
DESCRIPTION:Roll on down for our Age of Autos Car Show and barbeque. Live music to get you moving by the Barrelhouse Gang. Car show is free by RSVP. Barbeque donations benefit King County Fire Station 20.
X-ALT-DESC;FMTTYPE=text/html:Roll on down for our Age of Autos Car Show and barbeque. Live music to get you moving by the Barrelhouse Gang. Car show is free by RSVP. Barbeque donations benefit King County Fire Station 20.
LOCATION:The Lakeshore 11448 Rainier Ave S Seattle\, WA 98178
UID:e.16.6531
SEQUENCE:3
DTSTAMP:20260424T022204Z
URL:https://chamber.gorenton.com/events/details/seattle-tacoma-regional-group-of-the-horseless-carriage-club-of-america-car-show-6531
END:VEVENT

END:VCALENDAR
