BEGIN:VCALENDAR
VERSION:2.0
PRODID:-//ChamberMaster//Event Calendar 2.0//EN
METHOD:PUBLISH
X-PUBLISHED-TTL:P3D
REFRESH-INTERVAL:P3D
CALSCALE:GREGORIAN
BEGIN:VEVENT
DTSTART:20230113T030000Z
DTEND:20230113T030000Z
X-MICROSOFT-CDO-ALLDAYEVENT:FALSE
SUMMARY:SEATTLEU Baseketball @ Climate Pledge Arena
DESCRIPTION:SPECIAL TICKET OFFER\n\nSEATTLEU vs New Mexico State Basketball\n\nat the Climate Pledge Arena!\n\nJanuary 12\, 2023 - 7pm\n\n\n$15 tickets. SPECIAL GAME DAY EXPERIENCES! We offer youth clubs\, groups or teams that would like the full gameday experience. Several special opportunities are available for the kids to get involved such as pre-game tour of basketball facilities within the arena\, fan tunnel\, post-game photo on the court\, video board mention\, and more!
X-ALT-DESC;FMTTYPE=text/html:<h1 style="text-align: center\;"><span style="color:#B22222\;"><strong>SPECIAL TICKET OFFER</strong></span></h1>\n\n<h2 style="text-align: center\;"><span style="color:#A52A2A\;"><strong>SEATTLE</strong></span><strong>U</strong>&nbsp\;vs New Mexico State Basketball</h2>\n\n<h2 style="text-align: center\;">at the Climate Pledge Arena!</h2>\n\n<h3 style="text-align: center\;">January 12\, 2023 -&nbsp\;7pm</h3>\n<br />\n<span style="color:black\;">$15 tickets.&nbsp\;</span>SPECIAL GAME DAY EXPERIENCES! We offer youth clubs\, groups or teams that would like the full gameday experience. Several special opportunities are available for the kids to get involved such as pre-game tour of basketball facilities within the arena\, fan tunnel\, post-game photo on the court\, video board mention\, and more!&nbsp\;
LOCATION:Climate Pledge Arena
UID:e.16.13966
SEQUENCE:3
DTSTAMP:20260419T140313Z
URL:https://chamber.gorenton.com/events/details/seattleu-baseketball-climate-pledge-arena-13966
END:VEVENT

END:VCALENDAR
