BEGIN:VCALENDAR
VERSION:2.0
PRODID:-//ChamberMaster//Event Calendar 2.0//EN
METHOD:PUBLISH
X-PUBLISHED-TTL:P3D
REFRESH-INTERVAL:P3D
CALSCALE:GREGORIAN
BEGIN:VEVENT
DTSTART:20210303T220000Z
DTEND:20210303T230000Z
X-MICROSOFT-CDO-ALLDAYEVENT:FALSE
SUMMARY:Selling Your Home During a Pandemic
DESCRIPTION:Are you considering selling your home right now? Join us on how to best navigate the real estate market during the pandemic. All participants will be entered to win $3\,000 toward moving expenses to The Lakeshore (Must reserve by May 15th. One winner only. No other concessions apply.) Please RSVP today (206) 772-1200
X-ALT-DESC;FMTTYPE=text/html:<span style="color:black"><span style="font-family:arial"><span style="font-size:12.0pt">Are you considering selling your home right now? Join us on how to best navigate the real estate market during the pandemic. All participants will be entered to win $3\,000 toward moving expenses to The Lakeshore (Must reserve by May 15th. One winner only. No other concessions apply.) </span></span></span><em><span style="color:black"><span style="font-family:arial"><span style="font-size:12.0pt">Please RSVP today (206) 772-1200</span></span></span></em><br />\n&nbsp\;
LOCATION:Online Zoom Webinar
UID:e.16.8138
SEQUENCE:3
DTSTAMP:20260420T200416Z
URL:https://chamber.gorenton.com/events/details/selling-your-home-during-a-pandemic-8138
END:VEVENT

END:VCALENDAR
