BEGIN:VCALENDAR
VERSION:2.0
PRODID:-//ChamberMaster//Event Calendar 2.0//EN
METHOD:PUBLISH
X-PUBLISHED-TTL:P3D
REFRESH-INTERVAL:P3D
CALSCALE:GREGORIAN
BEGIN:VEVENT
DTSTART:20220407T210000Z
DTEND:20220407T220000Z
X-MICROSOFT-CDO-ALLDAYEVENT:FALSE
SUMMARY:Selling Your Home in Today's Market
DESCRIPTION:Are you considering selling your home right now? Housing market experts are predicting another year of continued high demand and rising home prices. Join us for an informative presentation on today's real estate market and learn about tips for selling.\n\n\n\n  Tips for showing your home\n\n  Common mistakes home sellers make\n\n  The costs associated with selling your home\n\n  How to list with confidence and sell with ease
X-ALT-DESC;FMTTYPE=text/html:Are you considering selling your home right now? Housing market experts are predicting another year of continued high demand and rising home prices. Join us for an informative presentation on today&#39\;s real estate market and learn about tips for selling.<br />\n<br />\n&middot\; Tips for showing your home<br />\n&middot\; Common mistakes home sellers make<br />\n&middot\; The costs associated with selling your home<br />\n&middot\; How to list with confidence and sell with ease
LOCATION:The Lakeshore Retirement Community - Lakeview Dining Room
UID:e.16.11466
SEQUENCE:3
DTSTAMP:20260420T014620Z
URL:https://chamber.gorenton.com/events/details/selling-your-home-in-today-s-market-04-07-2022-11466
END:VEVENT

END:VCALENDAR
