BEGIN:VCALENDAR
VERSION:2.0
PRODID:-//ChamberMaster//Event Calendar 2.0//EN
METHOD:PUBLISH
X-PUBLISHED-TTL:P3D
REFRESH-INTERVAL:P3D
CALSCALE:GREGORIAN
BEGIN:VEVENT
DTSTART:20190619T210000Z
DTEND:20190619T220000Z
X-MICROSOFT-CDO-ALLDAYEVENT:FALSE
SUMMARY:Senior Fraud Risk & Persuasion Tactics Used
DESCRIPTION:Coffee & Conversation with Gary Reece\, AARP Fraud Fighter. Gary will present on Senior Fraud Risk and the tactics used to persuade seniors.
X-ALT-DESC;FMTTYPE=text/html:Coffee &amp\; Conversation with Gary Reece\, AARP Fraud Fighter. Gary will present on Senior Fraud Risk and the tactics used to persuade seniors.
LOCATION:The Lakeshore 11448 Rainier Ave S Seattle WA 98178
UID:e.16.6530
SEQUENCE:3
DTSTAMP:20260424T035439Z
URL:https://chamber.gorenton.com/events/details/senior-fraud-risk-persuasion-tactics-used-6530
END:VEVENT

END:VCALENDAR
