BEGIN:VCALENDAR
VERSION:2.0
PRODID:-//ChamberMaster//Event Calendar 2.0//EN
METHOD:PUBLISH
X-PUBLISHED-TTL:P3D
REFRESH-INTERVAL:P3D
CALSCALE:GREGORIAN
BEGIN:VEVENT
DTSTART:20180210T220000Z
DTEND:20180211T000000Z
X-MICROSOFT-CDO-ALLDAYEVENT:FALSE
SUMMARY:SHADOW Lake Nature Preserve Bee My Valentine
DESCRIPTION:This Valentine's week\, come to SHADOW Lake Nature Preserve for a fun day celebrating the importance of pollinators in our region and beyond. We will have fun games\, crafts\, and other activities for the young and young at heart. The event will also include a walking tour of our famous\, beautiful bog and information about how to protect pollinators in your own backyard.
X-ALT-DESC;FMTTYPE=text/html:This Valentine&#39\;s week\, come to SHADOW Lake Nature Preserve for a fun day celebrating the importance of pollinators in our region and beyond. We will have fun games\, crafts\, and other activities for the young and young at heart. The event will also include a walking tour of our famous\, beautiful bog and information about how to protect pollinators in your own backyard.
LOCATION:SHADOW Lake Nature Preserve 21656 184th Ave SE Renton\, WA 98058
UID:e.16.5730
SEQUENCE:3
DTSTAMP:20260425T023511Z
URL:https://chamber.gorenton.com/events/details/shadow-lake-nature-preserve-bee-my-valentine-5730
END:VEVENT

END:VCALENDAR
