BEGIN:VCALENDAR
VERSION:2.0
PRODID:-//ChamberMaster//Event Calendar 2.0//EN
METHOD:PUBLISH
X-PUBLISHED-TTL:P3D
REFRESH-INTERVAL:P3D
CALSCALE:GREGORIAN
BEGIN:VEVENT
DTSTART:20180223T020000Z
DTEND:20180223T033000Z
X-MICROSOFT-CDO-ALLDAYEVENT:FALSE
SUMMARY:SHADOW Lake Nature Preserve Connecting with Nature Through Drawing and Journaling
DESCRIPTION:Have you ever wanted to learn a plant's name but had a hard time remembering what exactly it looks like when you returned home? Join our new Education and Restoration Manager\, Ali Yeates\, for a workshop on sketching and naturalist note-taking to help you identify the flora and fauna surrounding you. You are encouraged to bring a small journal and pencil but materials will be provided.
X-ALT-DESC;FMTTYPE=text/html:Have you ever wanted to learn a plant&rsquo\;s name but had a hard time remembering what exactly it looks like when you returned home? Join our new Education and Restoration Manager\, Ali Yeates\, for a workshop on sketching and naturalist note-taking to help you identify the flora and fauna surrounding you. You are encouraged to bring a small journal and pencil but materials will be provided.
LOCATION:SHADOW Lake Nature Preserve 21656 184th Ave SE Renton\, WA 98058
UID:e.16.5732
SEQUENCE:3
DTSTAMP:20260425T023518Z
URL:https://chamber.gorenton.com/events/details/shadow-lake-nature-preserve-connecting-with-nature-through-drawing-and-journaling-5732
END:VEVENT

END:VCALENDAR
