BEGIN:VCALENDAR
VERSION:2.0
PRODID:-//ChamberMaster//Event Calendar 2.0//EN
METHOD:PUBLISH
X-PUBLISHED-TTL:P3D
REFRESH-INTERVAL:P3D
CALSCALE:GREGORIAN
BEGIN:VEVENT
DTSTART:20180119T180000Z
DTEND:20180119T190000Z
X-MICROSOFT-CDO-ALLDAYEVENT:FALSE
SUMMARY:SHADOW Lake Nature Preserve Guided Nature Walk: A New Year at the Preserve
DESCRIPTION:Explore the beauty of our trails with a guide to lead you through the diverse ecology represented at SHADOW Lake Nature Preserve. Guided Nature Walks are outdoor explorations that take place rain or shine. Come with weather appropriate clothes and shoes for moderate levels of walking   inclines or uneven ground may be encountered on this walk. This week\, start our new year with us by exploring seasonal changes happening at the preserve! Learn about which plants will be green all year long and the unique adaptations our plants and animals have for surviving the winter season.
X-ALT-DESC;FMTTYPE=text/html:Explore the beauty of our trails with a guide to lead you through the diverse ecology represented at SHADOW Lake Nature Preserve. Guided Nature Walks are outdoor explorations that take place rain or shine. Come with weather appropriate clothes and shoes for moderate levels of walking &ndash\; inclines or uneven ground may be encountered on this walk. This week\, start our new year with us by exploring seasonal changes happening at the preserve! Learn about which plants will be green all year long and the unique adaptations our plants and animals have for surviving the winter season.
LOCATION:SHADOW Lake Nature Preserve 21656 184th Ave SE Renton\, WA 98058
UID:e.16.5728
SEQUENCE:3
DTSTAMP:20260425T040346Z
URL:https://chamber.gorenton.com/events/details/shadow-lake-nature-preserve-guided-nature-walk-a-new-year-at-the-preserve-5728
END:VEVENT

END:VCALENDAR
