BEGIN:VCALENDAR
VERSION:2.0
PRODID:-//ChamberMaster//Event Calendar 2.0//EN
METHOD:PUBLISH
X-PUBLISHED-TTL:P3D
REFRESH-INTERVAL:P3D
CALSCALE:GREGORIAN
BEGIN:VEVENT
DTSTART:20180216T180000Z
DTEND:20180216T190000Z
X-MICROSOFT-CDO-ALLDAYEVENT:FALSE
SUMMARY:SHADOW Lake Nature Preserve Guided Nature Walk:Pollination Station
DESCRIPTION:Explore the beauty of our trails with a guide to lead you through the diverse ecology represented at SHADOW Lake Nature Preserve. Guided Nature Walks are outdoor explorations that take place rain or shine. Come with weather appropriate clothes and shoes for moderate levels of walking   inclines or uneven ground may be encountered on this walk. This week\, we will be exploring the importance of pollinators! We will be talking about how the Preserve serves as a sanctuary for native pollinators and how your home can too!
X-ALT-DESC;FMTTYPE=text/html:Explore the beauty of our trails with a guide to lead you through the diverse ecology represented at SHADOW Lake Nature Preserve. Guided Nature Walks are outdoor explorations that take place rain or shine. Come with weather appropriate clothes and shoes for moderate levels of walking &ndash\; inclines or uneven ground may be encountered on this walk. This week\, we will be exploring the importance of pollinators! We will be talking about how the Preserve serves as a sanctuary for native pollinators and how your home can too!
LOCATION:SHADOW Lake Nature Preserve 21656 184th Ave SE Renton\, WA 98058
UID:e.16.5731
SEQUENCE:3
DTSTAMP:20260425T023458Z
URL:https://chamber.gorenton.com/events/details/shadow-lake-nature-preserve-guided-nature-walk-pollination-station-5731
END:VEVENT

END:VCALENDAR
