BEGIN:VCALENDAR
VERSION:2.0
PRODID:-//ChamberMaster//Event Calendar 2.0//EN
METHOD:PUBLISH
X-PUBLISHED-TTL:P3D
REFRESH-INTERVAL:P3D
CALSCALE:GREGORIAN
BEGIN:VEVENT
DTSTART:20180316T170000Z
DTEND:20180316T180000Z
X-MICROSOFT-CDO-ALLDAYEVENT:FALSE
SUMMARY:SHADOW Lake Nature Preserve Guided Nature Walk: Water Works
DESCRIPTION:Explore the beauty of our trails with a guide to lead you through the diverse ecology represented at SHADOW Lake Nature Preserve. Guided Nature Walks are outdoor explorations that take place rain or shine. Come with weather appropriate clothes and shoes for moderate levels of walking   inclines or uneven ground may be encountered on this walk. This week we will discover more about the vital role water plays at the Preserve. We will even discover how native fish\, like Salmon\, are helped by the work we do to protect and preserve wetland habitat.
X-ALT-DESC;FMTTYPE=text/html:Explore the beauty of our trails with a guide to lead you through the diverse ecology represented at SHADOW Lake Nature Preserve. Guided Nature Walks are outdoor explorations that take place rain or shine. Come with weather appropriate clothes and shoes for moderate levels of walking &ndash\; inclines or uneven ground may be encountered on this walk. This week we will discover more about the vital role water plays at the Preserve. We will even discover how native fish\, like Salmon\, are helped by the work we do to protect and preserve wetland habitat.
LOCATION:SHADOW Lake Nature Preserve 21656 184th Ave SE Renton\, WA 98058
UID:e.16.5733
SEQUENCE:3
DTSTAMP:20260425T023459Z
URL:https://chamber.gorenton.com/events/details/shadow-lake-nature-preserve-guided-nature-walk-water-works-5733
END:VEVENT

END:VCALENDAR
