BEGIN:VCALENDAR
VERSION:2.0
PRODID:-//ChamberMaster//Event Calendar 2.0//EN
METHOD:PUBLISH
X-PUBLISHED-TTL:P3D
REFRESH-INTERVAL:P3D
CALSCALE:GREGORIAN
BEGIN:VEVENT
DTSTART:20180203T220000Z
DTEND:20180204T010000Z
X-MICROSOFT-CDO-ALLDAYEVENT:FALSE
SUMMARY:SHADOW Lake Nature Preserve Neighborhood Open House
DESCRIPTION:Join us for a chance to get to know SHADOW's neighbors\, volunteers\, staff\, and board. We will have information on our upcoming projects\, community classes\, and other news from around the Preserve. We will be offering bog tours\, a question and answer session\, and information on using Firewise practices around your property. Refreshments will be provided. We look forward to having you!
X-ALT-DESC;FMTTYPE=text/html:Join us for a chance to get to know SHADOW&rsquo\;s neighbors\, volunteers\, staff\, and board. We will have information on our upcoming projects\, community classes\, and other news from around the Preserve. We will be offering bog tours\, a question and answer session\, and information on using Firewise practices around your property. Refreshments will be provided. We look forward to having you!
LOCATION:SHADOW Lake Nature Preserve 21656 184th Ave SE Renton\, WA 98058
UID:e.16.5729
SEQUENCE:3
DTSTAMP:20260425T023654Z
URL:https://chamber.gorenton.com/events/details/shadow-lake-nature-preserve-neighborhood-open-house-5729
END:VEVENT

END:VCALENDAR
