BEGIN:VCALENDAR
VERSION:2.0
PRODID:-//ChamberMaster//Event Calendar 2.0//EN
METHOD:PUBLISH
X-PUBLISHED-TTL:P3D
REFRESH-INTERVAL:P3D
CALSCALE:GREGORIAN
BEGIN:VEVENT
DTSTART:20210201T180000Z
DTEND:20210201T230000Z
X-MICROSOFT-CDO-ALLDAYEVENT:FALSE
SUMMARY:Share the Love - Free Coffee for Seniors! by Merrill Gardens
DESCRIPTION:Merrill Gardens is hosting a "free" senior drive thru on February 1st between 10a - 3p.\n\nDrive thru the Starbucks Drive thru\, present your ID showing you are a Renton Senior (age 65+) and coffee is on Merrill Gardens!  Enjoy a complimentary coffee drink\, tea or cocoa drink as their way of "Sharing The Love."\n\n \n\n \n\nThanks to all of the sponsors who helped Meerill Gardens with this event!\n\nPlease plan on proper safety protocol and wearing a mask when appropriate!\n\n \n\nStarbucks 68 Rainier Avenue South\, Renton\n\n\n\nCome on out and say 'Hello!'\n\n\n\nWe encourage all our guests to please use proper safety protocols when attending our event!
X-ALT-DESC;FMTTYPE=text/html:<p>Merrill Gardens is hosting a &quot\;free&quot\; senior drive thru on February 1st between 10a - 3p.</p>\n\n<p>Drive thru the Starbucks Drive thru\, present your ID showing you are a Renton Senior (age 65+) and coffee is on Merrill Gardens!&nbsp\; Enjoy a complimentary coffee drink\, tea or cocoa drink as their way of &quot\;Sharing The Love.&quot\;</p>\n\n<p>&nbsp\;</p>\n\n<p>&nbsp\;</p>\n\n<p>Thanks to all of the sponsors who helped Meerill Gardens with this event!</p>\n\n<p>Please plan on proper safety protocol and wearing a mask when appropriate!</p>\n\n<p>&nbsp\;</p>\n\n<p>Starbucks 68 Rainier Avenue South\, Renton</p>\n\n<p><br style="color: rgb(228\, 230\, 235)\; font-family: &quot\;Segoe UI Historic&quot\;\, &quot\;Segoe UI&quot\;\, Helvetica\, Arial\, sans-serif\; font-size: 15px\; background-color: rgb(36\, 37\, 38)\;" />\n<span style="color:#FFFFFF\;"><span style="font-family: &quot\;Segoe UI Historic&quot\;\, &quot\;Segoe UI&quot\;\, Helvetica\, Arial\, sans-serif\; font-size: 15px\; background-color: rgb(36\, 37\, 38)\;">Come on out and say &#39\;Hello!&#39\;</span><br style="color: rgb(228\, 230\, 235)\; font-family: &quot\;Segoe UI Historic&quot\;\, &quot\;Segoe UI&quot\;\, Helvetica\, Arial\, sans-serif\; font-size: 15px\; background-color: rgb(36\, 37\, 38)\;" />\n<br style="color: rgb(228\, 230\, 235)\; font-family: &quot\;Segoe UI Historic&quot\;\, &quot\;Segoe UI&quot\;\, Helvetica\, Arial\, sans-serif\; font-size: 15px\; background-color: rgb(36\, 37\, 38)\;" />\n<span style="font-family: &quot\;Segoe UI Historic&quot\;\, &quot\;Segoe UI&quot\;\, Helvetica\, Arial\, sans-serif\; font-size: 15px\; background-color: rgb(36\, 37\, 38)\;">We encourage all our guests to please use proper safety protocols when attending our event!</span></span></p>\n
LOCATION:Starbucks 68 Rainier Avenue South\, Renton Drive Thru
UID:e.16.7382
SEQUENCE:3
DTSTAMP:20260420T225502Z
URL:https://chamber.gorenton.com/events/details/share-the-love-free-coffee-for-seniors-by-merrill-gardens-7382
END:VEVENT

END:VCALENDAR
