BEGIN:VCALENDAR
VERSION:2.0
PRODID:-//ChamberMaster//Event Calendar 2.0//EN
METHOD:PUBLISH
X-PUBLISHED-TTL:P3D
REFRESH-INTERVAL:P3D
CALSCALE:GREGORIAN
BEGIN:VEVENT
DTSTART:20210908T003000Z
DTEND:20210908T011000Z
X-MICROSOFT-CDO-ALLDAYEVENT:FALSE
SUMMARY:Shofar in the Park @Gene Coulon Memorial Beach Park
DESCRIPTION:Enjoy the tastes and sounds of the Jewish New Year. An express\, meaningful High Holiday experience.\n\nMeet us at Gene Coulon Memorial Beach Park to enjoy:\n\n\n\n*Honey-bee cupcake decorating\n\n*Holiday treats\n\n*Meaningful Tashlich ceremony at the beautiful Lake Washington\n\n*Shofar sounding\n\n \n\nReservations required at JewishRenton.com/high-holidays.
X-ALT-DESC;FMTTYPE=text/html:<div>Enjoy the tastes and sounds of the Jewish New Year. An express\, meaningful High Holiday experience.</div>\n\n<div>Meet us at Gene Coulon Memorial Beach Park to enjoy:<br />\n<br />\n*Honey-bee cupcake decorating<br />\n*Holiday treats<br />\n*Meaningful Tashlich ceremony at the beautiful Lake Washington<br />\n*Shofar sounding</div>\n\n<div>&nbsp\;</div>\n\n<div>Reservations required at&nbsp\;<a class="oajrlxb2 g5ia77u1 qu0x051f esr5mh6w e9989ue4 r7d6kgcz rq0escxv nhd2j8a9 nc684nl6 p7hjln8o kvgmc6g5 cxmmr5t8 oygrvhab hcukyx3x jb3vyjys rz4wbd8a qt6c0cv9 a8nywdso i1ao9s8h esuyzwwr f1sip0of lzcic4wl py34i1dx gpro0wi8" href="http://jewishrenton.com/high-holidays?fbclid=IwAR2o6pdCXtPcnYiluV6M4QhdbDaCXJB4IyxgG30v7oOlQE7qARnEtmSkikM" rel="nofollow noopener" style="color: var(--blue-link)\; cursor: pointer\; text-decoration-line: none\; outline: none\; list-style: none\; border-width: 0px\; border-style: initial\; border-color: initial\; padding: 0px\; margin: 0px\; touch-action: manipulation\; background-color: transparent\; text-align: inherit\; display: inline\; -webkit-tap-highlight-color: transparent\; box-sizing: border-box\; font-family: inherit\;" tabindex="0" target="_blank">JewishRenton.com/high-holidays</a>.</div>\n
LOCATION:Gene Coulon Memorial Beach Park
UID:e.16.8386
SEQUENCE:3
DTSTAMP:20260420T121120Z
URL:https://chamber.gorenton.com/events/details/shofar-in-the-park-gene-coulon-memorial-beach-park-8386
END:VEVENT

END:VCALENDAR
