BEGIN:VCALENDAR
VERSION:2.0
PRODID:-//ChamberMaster//Event Calendar 2.0//EN
METHOD:PUBLISH
X-PUBLISHED-TTL:P3D
REFRESH-INTERVAL:P3D
CALSCALE:GREGORIAN
BEGIN:VEVENT
DTSTART:20180720T180000Z
DTEND:20180720T190000Z
X-MICROSOFT-CDO-ALLDAYEVENT:FALSE
SUMMARY:Sonic Drive-in Ribbon Cutting event.
DESCRIPTION:Join Us!\nWe are thrilled to welcome the Ramsey family and Sonic into our Renton business community and are excited to celebrate with a ribbon cutting for the same this Friday.\n\n\nSonic's promotion all day on Friday for their ribbon cutting ..\n\n \n\nhalf priced shakes all day with an emphasis on our Cookie Jar Shakes
X-ALT-DESC;FMTTYPE=text/html:<div>Join Us!</div>\nWe are thrilled to welcome the Ramsey family and Sonic into our Renton business community and are excited to celebrate with a ribbon cutting for the same this Friday.\n\n<div>\n<div>Sonic&rsquo\;s promotion all day on Friday for their ribbon cutting&hellip\;..</div>\n\n<div>&nbsp\;</div>\n\n<div>half priced shakes all day with an emphasis on our Cookie Jar Shakes</div>\n\n<div>&nbsp\;</div>\n\n<div>&nbsp\;</div>\n</div>\n
LOCATION:Sonic Drive-In 741 Rainier Ave. South Renton\, WA 98057
UID:e.16.5878
SEQUENCE:3
DTSTAMP:20260424T183546Z
URL:https://chamber.gorenton.com/events/details/sonic-drive-in-ribbon-cutting-event-5878
END:VEVENT

END:VCALENDAR
