BEGIN:VCALENDAR
VERSION:2.0
PRODID:-//ChamberMaster//Event Calendar 2.0//EN
METHOD:PUBLISH
X-PUBLISHED-TTL:P3D
REFRESH-INTERVAL:P3D
CALSCALE:GREGORIAN
BEGIN:VEVENT
DTSTART:20181215T230000Z
DTEND:20181216T010000Z
X-MICROSOFT-CDO-ALLDAYEVENT:FALSE
SUMMARY:SoulArt presents Gabriel
DESCRIPTION:Gregory Martin's "Gabriel" is Christmas musical drama for the entire family! Their will be live musical instruments\, unforgettable singing talent and professional exhilarating dancing and stunning acting form.
X-ALT-DESC;FMTTYPE=text/html:Gregory Martin&rsquo\;s &ldquo\;Gabriel&rdquo\; is Christmas musical drama for the entire family! Their will be live musical instruments\, unforgettable singing talent and professional exhilarating dancing and stunning acting form.
LOCATION:Carco Theatre 1717 Maple Valley Hwy Renton\, WA 98056
UID:e.16.5958
SEQUENCE:3
DTSTAMP:20260424T122827Z
URL:https://chamber.gorenton.com/events/details/soulart-presents-gabriel-12-15-2018-5958
END:VEVENT

END:VCALENDAR
