BEGIN:VCALENDAR
VERSION:2.0
PRODID:-//ChamberMaster//Event Calendar 2.0//EN
METHOD:PUBLISH
X-PUBLISHED-TTL:P3D
REFRESH-INTERVAL:P3D
CALSCALE:GREGORIAN
BEGIN:VEVENT
DTSTART:20181211T150000Z
DTEND:20181211T170000Z
X-MICROSOFT-CDO-ALLDAYEVENT:FALSE
SUMMARY:South Sound Chambers of Commerce Legislative Coalition Breakfast
DESCRIPTION:Mark your calendar for the Annual South South Sound Chambers of Commerce Pre-Session Legislative Breakfast.\n\nPreview the 2019 legislative priorities of your regional Chamber business as the largest business networking breakfast in the South Sound.
X-ALT-DESC;FMTTYPE=text/html:Mark your calendar for the Annual South South Sound Chambers of Commerce Pre-Session Legislative Breakfast.<br />\nPreview the 2019 legislative priorities of your regional Chamber business as the largest business networking breakfast in the South Sound.
LOCATION:Emerald Downs 2300 Ron Crokett Drive Auburn\, WA 98001
UID:e.16.5961
SEQUENCE:3
DTSTAMP:20260424T110045Z
URL:https://chamber.gorenton.com/events/details/south-sound-chambers-of-commerce-legislative-coalition-breakfast-5961
END:VEVENT

END:VCALENDAR
