BEGIN:VCALENDAR
VERSION:2.0
PRODID:-//ChamberMaster//Event Calendar 2.0//EN
METHOD:PUBLISH
X-PUBLISHED-TTL:P3D
REFRESH-INTERVAL:P3D
CALSCALE:GREGORIAN
BEGIN:VEVENT
DTSTART;VALUE=DATE:20221028
DTEND;VALUE=DATE:20221101
TRANSP:TRANSPARENT
X-MICROSOFT-CDO-ALLDAYEVENT:TRUE
SUMMARY:Spooky Ice Skating for All Ages!
DESCRIPTION:Join Sno-King Oct 28th-31st for ice skating\, costume contests\, and fun! Wear a costume and receive FREE admission and skate rental. Visit our website for times based on location.
X-ALT-DESC;FMTTYPE=text/html:Join Sno-King Oct 28th-31st for ice skating\, costume contests\, and fun! Wear a costume and receive FREE admission and skate rental. Visit our website for times based on location.
LOCATION:Sno-King Ice Arenas - Snoqualmie\, Renton\, Kirkland
UID:e.16.13616
SEQUENCE:3
DTSTAMP:20260419T174321Z
URL:https://chamber.gorenton.com/events/details/spooky-ice-skating-for-all-ages-13616
END:VEVENT

END:VCALENDAR
