BEGIN:VCALENDAR
VERSION:2.0
PRODID:-//ChamberMaster//Event Calendar 2.0//EN
METHOD:PUBLISH
X-PUBLISHED-TTL:P3D
REFRESH-INTERVAL:P3D
CALSCALE:GREGORIAN
BEGIN:VEVENT
DTSTART:20180328T143000Z
DTEND:20180328T153000Z
X-MICROSOFT-CDO-ALLDAYEVENT:FALSE
SUMMARY:State of the City\, City of Renton
DESCRIPTION:Join Mayor Denis Law as he presents the 2018 State of the City address.\n\nTickets are $25 with all proceeds benefit Renton Technical College Foundation's scholarship fund.
X-ALT-DESC;FMTTYPE=text/html:<p class="sizeable" style="background-color: transparent\; color: rgb(35\, 31\, 32)\; font-family: &amp\;quot\;Open Sans&amp\;quot\;\,sans-serif\; font-size: 16px\; font-style: normal\; font-variant: normal\; font-weight: 400\; letter-spacing: 0.3px\; line-height: 27.2px\; margin-bottom: 15px\; margin-left: 0px\; margin-right: 0px\; margin-top: 0px\; orphans: 2\; padding-bottom: 0px\; padding-left: 0px\; padding-right: 0px\; padding-top: 0px\; text-align: left\; text-decoration: none\; text-indent: 0px\; text-transform: none\; -webkit-text-stroke-width: 0px\; white-space: normal\; word-spacing: 0px\;">Join Mayor Denis Law as he presents the 2018 State of the City address.</p>\n\n<p class="sizeable" style="background-color: transparent\; color: rgb(35\, 31\, 32)\; font-family: &amp\;quot\;Open Sans&amp\;quot\;\,sans-serif\; font-size: 16px\; font-style: normal\; font-variant: normal\; font-weight: 400\; letter-spacing: 0.3px\; line-height: 27.2px\; margin-bottom: 15px\; margin-left: 0px\; margin-right: 0px\; margin-top: 0px\; orphans: 2\; padding-bottom: 0px\; padding-left: 0px\; padding-right: 0px\; padding-top: 0px\; text-align: left\; text-decoration: none\; text-indent: 0px\; text-transform: none\; -webkit-text-stroke-width: 0px\; white-space: normal\; word-spacing: 0px\;">Tickets are $25 with all proceeds benefit <a class="sizeable" href="http://rtc.edu/foundation" style="background-color: transparent\; color: rgb(173\, 86\, 9)\; text-decoration: none\;" target="_blank" title="Click to link to Renton Technical College's Foundation">Renton Technical College Foundation&#39\;s</a> scholarship fund.</p>\n
LOCATION:Renton Technical College Cafeteria 3000 NE 4th Street Renton WA\, 98056
UID:e.16.5740
SEQUENCE:3
DTSTAMP:20260425T024217Z
URL:https://chamber.gorenton.com/events/details/state-of-the-city-city-of-renton-5740
END:VEVENT

END:VCALENDAR
