BEGIN:VCALENDAR
VERSION:2.0
PRODID:-//ChamberMaster//Event Calendar 2.0//EN
METHOD:PUBLISH
X-PUBLISHED-TTL:P3D
REFRESH-INTERVAL:P3D
CALSCALE:GREGORIAN
BEGIN:VEVENT
DTSTART:20220827T180000Z
DTEND:20220827T210000Z
X-MICROSOFT-CDO-ALLDAYEVENT:FALSE
SUMMARY:StoryBook Theater in the Park: Hansel & Gretel
DESCRIPTION:StoryBook In the Park presented by Google is back this August! Thanks to the generous support of Google\, EvergreenHealth\, and Tulalip Tribes Charitable Contributions\, we are excited to present Hansel & Gretel for FREE at various local parks for weekends in August. About the Show: Hansel and Gretel constantly tease and compete as many siblings do. Hungry\, they chase each other into the forest looking for food\, but instead\, they discover a shifty chef who craves sweet and succulent siblings. Can Hansel and Gretel learn that by working side-by-side they can change their rocky road and sour patches into a trail mix of healthy choices\, or will the chef take the cake? | Focus: Working Together Directed by Lani Brockman | Musically Directed by David Close | Choreographed by Megan D. Connell Showtimes & Locations: Bellevue Youth Theater Amphitheater Saturday\, August 6 at 11am Sunday\, August 7 at 11am Magnuson Park in Seattle Saturday\, August 13 at 11am & 1pm Juanita Beach Park in Kirkland Saturday\, August 20 at 11am & 1pm Sunday\, August 21 at 11am & 1pm Cedar River Park behind Renton Carco Theatre Saturday\, August 27 at 11am & 1pm McCormick Park in Duvall Sunday\, August 28 at 11am & 1pm
X-ALT-DESC;FMTTYPE=text/html:StoryBook In the Park presented by Google is back this August! Thanks to the generous support of Google\, EvergreenHealth\, and Tulalip Tribes Charitable Contributions\, we are excited to present Hansel &amp\; Gretel for FREE at various local parks for weekends in August. About the Show: Hansel and Gretel constantly tease and compete as many siblings do. Hungry\, they chase each other into the forest looking for food\, but instead\, they discover a shifty chef who craves sweet and succulent siblings. Can Hansel and Gretel learn that by working side-by-side they can change their rocky road and sour patches into a trail mix of healthy choices\, or will the chef take the cake? | Focus: Working Together Directed by Lani Brockman | Musically Directed by David Close | Choreographed by Megan D. Connell Showtimes &amp\; Locations: Bellevue Youth Theater Amphitheater Saturday\, August 6 at 11am Sunday\, August 7 at 11am Magnuson Park in Seattle Saturday\, August 13 at 11am &amp\; 1pm Juanita Beach Park in Kirkland Saturday\, August 20 at 11am &amp\; 1pm Sunday\, August 21 at 11am &amp\; 1pm Cedar River Park behind Renton Carco Theatre Saturday\, August 27 at 11am &amp\; 1pm McCormick Park in Duvall Sunday\, August 28 at 11am &amp\; 1pm
LOCATION:Cedar River Park behind Renton Carco Theatre 1717 Maple Valley Hwy\, Renton\, WA 98057
UID:e.16.13504
SEQUENCE:3
DTSTAMP:20260419T215042Z
URL:https://chamber.gorenton.com/events/details/storybook-theater-in-the-park-hansel-gretel-13504
END:VEVENT

END:VCALENDAR
