BEGIN:VCALENDAR
VERSION:2.0
PRODID:-//ChamberMaster//Event Calendar 2.0//EN
METHOD:PUBLISH
X-PUBLISHED-TTL:P3D
REFRESH-INTERVAL:P3D
CALSCALE:GREGORIAN
BEGIN:VEVENT
DTSTART:20220908T220000Z
DTEND:20220909T000000Z
X-MICROSOFT-CDO-ALLDAYEVENT:FALSE
SUMMARY:Summer Happy Hour at Weatherly Inn!
DESCRIPTION:Join us at Weatherly Inn Renton on Thursday\, September 8th from 3-5pm for an outdoor summer happy hour!
X-ALT-DESC;FMTTYPE=text/html:Join us at Weatherly Inn Renton on Thursday\, September 8th from 3-5pm for an outdoor summer happy hour!&nbsp\;
LOCATION:Weatherly Inn Renton 4550 Talbot Road South Renton\, WA 98055
UID:e.16.13513
SEQUENCE:3
DTSTAMP:20260419T190110Z
URL:https://chamber.gorenton.com/events/details/summer-happy-hour-at-weatherly-inn-13513
END:VEVENT

END:VCALENDAR
