BEGIN:VCALENDAR
VERSION:2.0
PRODID:-//ChamberMaster//Event Calendar 2.0//EN
METHOD:PUBLISH
X-PUBLISHED-TTL:P3D
REFRESH-INTERVAL:P3D
CALSCALE:GREGORIAN
BEGIN:VEVENT
DTSTART:20220306T210000Z
DTEND:20220306T230000Z
X-MICROSOFT-CDO-ALLDAYEVENT:FALSE
SUMMARY:Sunday BBQ
DESCRIPTION:Hey guys! ill be at the Renton location from 1pm til sellout! We'll have all of your favorites this Sunday!\n\nLet me do the cooking and make Sunday dinner plans with me!
X-ALT-DESC;FMTTYPE=text/html:Hey guys! ill be at the Renton location from 1pm til sellout! We&#39\;ll have all of your favorites this Sunday!<br />\nLet me do the cooking and make Sunday dinner plans with me!&nbsp\;
LOCATION:11505 SE 168th ST Renton\, WA
UID:e.16.11426
SEQUENCE:3
DTSTAMP:20260420T025830Z
URL:https://chamber.gorenton.com/events/details/sunday-bbq-11426
END:VEVENT

END:VCALENDAR
