BEGIN:VCALENDAR
VERSION:2.0
PRODID:-//ChamberMaster//Event Calendar 2.0//EN
METHOD:PUBLISH
X-PUBLISHED-TTL:P3D
REFRESH-INTERVAL:P3D
CALSCALE:GREGORIAN
BEGIN:VEVENT
DTSTART:20260125T230000Z
DTEND:20260126T010000Z
X-MICROSOFT-CDO-ALLDAYEVENT:FALSE
SUMMARY:Sunday Funday: Free concert with Super Sones!
DESCRIPTION:Super Sones are bringing the heat on a cold January afternoon. As they perform traditional Cuban Son\, you might not be able to stay seated for long!\n\n\n\nSponsored and supported by Sustainable Music NW. No charge. All ages.
X-ALT-DESC;FMTTYPE=text/html:Super Sones are bringing the heat on a cold January afternoon. As they perform traditional Cuban Son\, you might not be able to stay seated for long!<br />\n<br />\nSponsored and supported by Sustainable Music NW. No charge. All ages.
LOCATION:Drum Roll Wine\, 911 S. 3rd St.\, Renton\, WA 98057
UID:e.16.31577
SEQUENCE:3
DTSTAMP:20260426T011851Z
URL:https://chamber.gorenton.com/events/details/sunday-funday-free-concert-with-super-sones-31577
END:VEVENT

END:VCALENDAR
