BEGIN:VCALENDAR
VERSION:2.0
PRODID:-//ChamberMaster//Event Calendar 2.0//EN
METHOD:PUBLISH
X-PUBLISHED-TTL:P3D
REFRESH-INTERVAL:P3D
CALSCALE:GREGORIAN
BEGIN:VEVENT
DTSTART:20220129T020000Z
DTEND:20220129T050000Z
X-MICROSOFT-CDO-ALLDAYEVENT:FALSE
SUMMARY:Super Bowl Wine/Appetizer education class
DESCRIPTION:Learn more about the art of wine pairing at these Renton Technical Colleges courses open to the public. Chris Jewett shares his knowledge of wines from around the world in his wine and food pairing classes. Chris has deep knowledge of the industry that he loves sharing with others.\n\n\n\nCULS 122 Super Bowl Wines/Appetizer Pairing Friday\, January 28\, 2022 6-9 p.m. Bldg. I-Room 101 Cost: $150 Wine education and special game day appetizer event. Learn all about the Sparking Wines and Beaujolais as they are paired to easy to make Super Bowl appetizers. Registration Item Code: M422\n\nREGISTER at https://www.public.ctc.edu/ApplicantWebClient/Applicant/ApplWelcome.aspx
X-ALT-DESC;FMTTYPE=text/html:Learn more about the art of wine pairing at these Renton Technical Colleges courses open to the public. Chris Jewett shares his knowledge of wines from around the world in his wine and food pairing classes. Chris has deep knowledge of the industry that he loves sharing with others.<br />\n<br />\nCULS 122 Super Bowl Wines/Appetizer Pairing Friday\, January 28\, 2022 6-9 p.m. Bldg. I-Room 101 Cost: $150 Wine education and special game day appetizer event. Learn all about the Sparking Wines and Beaujolais as they are paired to easy to make Super Bowl appetizers. Registration Item Code: M422<br />\nREGISTER at&nbsp\;<span style="font-family:calibri\,sans-serif"><span style="font-size:11.0pt"><a href="https://nam04.safelinks.protection.outlook.com/?url=https%3A%2F%2Fwww.public.ctc.edu%2FApplicantWebClient%2FApplicant%2FApplWelcome.aspx&amp\;data=04%7C01%7Cdmedbury%40rtc.edu%7Cf18ca0838c3642b8c89408d9c3e4d46b%7C567e9a91fca340289835889234d03726%7C0%7C0%7C637756209866546124%7CUnknown%7CTWFpbGZsb3d8eyJWIjoiMC4wLjAwMDAiLCJQIjoiV2luMzIiLCJBTiI6Ik1haWwiLCJXVCI6Mn0%3D%7C3000&amp\;sdata=%2BhQtTn6wUHzvdVYTSr7wRF4lqaYWX3ShoGfzMVw3di8%3D&amp\;reserved=0">https://www.public.ctc.edu/ApplicantWebClient/Applicant/ApplWelcome.aspx</a></span></span>
LOCATION:Renton Technical College 3000 NE 4th Street Renton\, WA 98056 Bldg. I-Campus Center Room 101
UID:e.16.11290
SEQUENCE:3
DTSTAMP:20260420T060604Z
URL:https://chamber.gorenton.com/events/details/super-bowl-wine-appetizer-education-class-11290
END:VEVENT

END:VCALENDAR
