BEGIN:VCALENDAR
VERSION:2.0
PRODID:-//ChamberMaster//Event Calendar 2.0//EN
METHOD:PUBLISH
X-PUBLISHED-TTL:P3D
REFRESH-INTERVAL:P3D
CALSCALE:GREGORIAN
BEGIN:VEVENT
DTSTART;VALUE=DATE:20200427
DTEND;VALUE=DATE:20200428
TRANSP:TRANSPARENT
X-MICROSOFT-CDO-ALLDAYEVENT:TRUE
SUMMARY:Support Local Restaurant Fund - Weekend Meals for Kids & Families
DESCRIPTION:Make a donation to a local restaurant to help offset the expenses involved in their providing nutritious meals to the kids from the Renton Schools who generally receive free & reduced lunches during the year.\n\nWhile the Renton School District is doing an amazing job in continuing to supply meals for those kids during the week\, when the weekend arrives\, these kids & families often fend for themselves.\n\nOur local restaurants are also facing challenges in sales & revenue.  Yet\, despite those challenges faced\, some are stepping up to support these kiddos & their families and provide those much needed meals.\n\nIn order to support two great causes with one donation\, we have set up a fund where our businesses & amazing community can donate to offset the costs for these restaurants as they help to keep some of the most vulnerable members of our community fed.
X-ALT-DESC;FMTTYPE=text/html:<p>Make a donation to a local restaurant to help offset the expenses involved in their providing nutritious meals to the kids from the Renton Schools who generally receive free &amp\; reduced lunches during the year.</p>\n\n<p>While the Renton School District is doing an amazing job in continuing to supply meals for those kids during the week\, when the weekend arrives\, these kids &amp\; families often fend for themselves.</p>\n\n<p>Our local restaurants are also facing challenges in sales &amp\; revenue.&nbsp\; Yet\, despite those challenges faced\, some are stepping up to support these kiddos &amp\; their families and provide those much needed meals.</p>\n\n<p>In order to support two great causes with one donation\, we have set up a fund where our businesses &amp\; amazing community can donate to offset the costs for these restaurants as they help to keep some of the most vulnerable members of our community fed.</p>\n
LOCATION:LIST OF PARTICIPATING RESTAURANTS TO BE UPDATED
UID:e.16.6772
SEQUENCE:3
DTSTAMP:20260423T114100Z
URL:https://chamber.gorenton.com/events/details/support-local-restaurant-fund-weekend-meals-for-kids-families-6772
END:VEVENT

END:VCALENDAR
