BEGIN:VCALENDAR
VERSION:2.0
PRODID:-//ChamberMaster//Event Calendar 2.0//EN
METHOD:PUBLISH
X-PUBLISHED-TTL:P3D
REFRESH-INTERVAL:P3D
CALSCALE:GREGORIAN
BEGIN:VEVENT
DTSTART:20181027T180000Z
DTEND:20181027T190000Z
X-MICROSOFT-CDO-ALLDAYEVENT:FALSE
SUMMARY:Tales That Go Bump in the Night
DESCRIPTION:Join storytellers Anne Rutherford and Norm Brecke for these family-friendly spine-tingling tales of ghosts and goblins and things that go bump in the night. Always a favorite at the Renton History Museum! We'll get you out in time to go to the Olde-Fashioned Halloween Faire in Downtown Renton.
X-ALT-DESC;FMTTYPE=text/html:Join storytellers Anne Rutherford and Norm Brecke for these family-friendly spine-tingling tales of ghosts and goblins and things that go bump in the night. Always a favorite at the Renton History Museum! We&rsquo\;ll get you out in time to go to the Olde-Fashioned Halloween Faire in Downtown Renton.
LOCATION:Renton History Museum 235 Mill Ave S Renton\, WA 98057
UID:e.16.5925
SEQUENCE:3
DTSTAMP:20260424T134111Z
URL:https://chamber.gorenton.com/events/details/tales-that-go-bump-in-the-night-5925
END:VEVENT

END:VCALENDAR
