BEGIN:VCALENDAR
VERSION:2.0
PRODID:-//ChamberMaster//Event Calendar 2.0//EN
METHOD:PUBLISH
X-PUBLISHED-TTL:P3D
REFRESH-INTERVAL:P3D
CALSCALE:GREGORIAN
BEGIN:VEVENT
DTSTART:20260321T190000Z
DTEND:20260321T230000Z
X-MICROSOFT-CDO-ALLDAYEVENT:FALSE
SUMMARY:Taste of Sweden
DESCRIPTION:Join us on Saturday\, March 21 for Taste of Sweden\, a delicious sampling fair throughout the IKEA store! Pick up your event map at the welcome table and explore tasting stations featuring a variety of Swedish flavors. After visiting all stations\, turn in your completed map to be entered to win IKEA cooking and eating products.\n\nThe first 50 attendees to arrive and visit the welcome table will receive a free GREJSIMOJS tote bag. (Must register on the IKEA event page to be eligible for a tote bag.) (Pre-registration does not guarantee a tote bag.)
X-ALT-DESC;FMTTYPE=text/html:<p>Join us on Saturday\, March 21 for Taste of Sweden\, a delicious sampling fair throughout the IKEA store! Pick up your event map at the welcome table and explore tasting stations featuring a variety of Swedish flavors. After visiting all stations\, turn in your completed map to be entered to win IKEA cooking and eating products.</p>\n\n<p>The first 50 attendees to arrive and visit the welcome table will receive a free GREJSIMOJS tote bag. (Must register on the&nbsp\;<a href="https://www.ikea.com/us/en/stores/events/ikea-renton-wa/" rel="nofollow noopener noreferrer" style="box-sizing: border-box\; padding: 0px\; margin: 0px\; color: rgb(54\, 89\, 227)\;" target="_blank" title="https://www.ikea.com/us/en/stores/events/ikea-renton-wa/">IKEA event&nbsp\;</a>page to be eligible for a tote bag.) (Pre-registration does not guarantee a tote bag.)</p>\n
LOCATION:
UID:e.16.32062
SEQUENCE:3
DTSTAMP:20260425T235049Z
URL:https://chamber.gorenton.com/events/details/taste-of-sweden-32062
END:VEVENT

END:VCALENDAR
