BEGIN:VCALENDAR
VERSION:2.0
PRODID:-//ChamberMaster//Event Calendar 2.0//EN
METHOD:PUBLISH
X-PUBLISHED-TTL:P3D
REFRESH-INTERVAL:P3D
CALSCALE:GREGORIAN
BEGIN:VEVENT
DTSTART:20211016T180000Z
DTEND:20211016T210000Z
X-MICROSOFT-CDO-ALLDAYEVENT:FALSE
SUMMARY:The Boy Who Cried Wolf presented by Premera Blue Cross
DESCRIPTION:Shepherd-boy Sam is tired of watching sheep all day\, and wants some excitement in his life. One day\, he decides to shake things up by yelling "Help   a wolf!" just for fun. The villagers come running\, only to discover that Sam has pulled the wool over their eyes. Is telling the truth all it's cracked up to be? And what will happen when a wolf really does appear? Adaptation by Lani Brockman | Music & Lyrics by Susan Bardsley Directed by Lani Brockman | Music Director & Piano by Kim Douglass Performing live in-person at: Renton Carco Theatre Saturday\, October 16 at 11am & 1pm
X-ALT-DESC;FMTTYPE=text/html:Shepherd-boy Sam is tired of watching sheep all day\, and wants some excitement in his life. One day\, he decides to shake things up by yelling &ldquo\;Help &ndash\; a wolf!&rdquo\; just for fun. The villagers come running\, only to discover that Sam has pulled the wool over their eyes. Is telling the truth all it&rsquo\;s cracked up to be? And what will happen when a wolf really does appear? Adaptation by Lani Brockman | Music &amp\; Lyrics by Susan Bardsley Directed by Lani Brockman | Music Director &amp\; Piano by Kim Douglass Performing live in-person at: Renton Carco Theatre Saturday\, October 16 at 11am &amp\; 1pm
LOCATION:Renton Carco Theatre
UID:e.16.9075
SEQUENCE:3
DTSTAMP:20260420T103027Z
URL:https://chamber.gorenton.com/events/details/the-boy-who-cried-wolf-presented-by-premera-blue-cross-9075
END:VEVENT

END:VCALENDAR
