BEGIN:VCALENDAR
VERSION:2.0
PRODID:-//ChamberMaster//Event Calendar 2.0//EN
METHOD:PUBLISH
X-PUBLISHED-TTL:P3D
REFRESH-INTERVAL:P3D
CALSCALE:GREGORIAN
BEGIN:VEVENT
DTSTART:20221207T223000Z
DTEND:20221208T003000Z
X-MICROSOFT-CDO-ALLDAYEVENT:FALSE
SUMMARY:The Jewel Tones A Mowtown Inspired Vocal Trio Performance
DESCRIPTION:GenCare Lifestyle The Lodge at Eagle Ridge invites you to enjoy a performance by The Jewel Tones!  The Spirit of the Supremes Lives on with Seattle's Premier Motown Vocal Trio.  Join us in our Canoe Lounge Dec 7th 2:30-4:30pm.  Space is limited RSVP for this free concert!
X-ALT-DESC;FMTTYPE=text/html:GenCare Lifestyle The Lodge at Eagle Ridge invites you to enjoy a performance by The Jewel Tones!&nbsp\; The Spirit of the Supremes Lives on with Seattle&#39\;s Premier Motown Vocal Trio.&nbsp\; Join us in our Canoe Lounge Dec 7th 2:30-4:30pm.&nbsp\; Space is limited RSVP for this free concert!&nbsp\;
LOCATION:GenCare Lifestyle Renton 1600 Eagle Ridge Drive S Renton\, WA 98055
UID:e.16.13698
SEQUENCE:3
DTSTAMP:20260419T151317Z
URL:https://chamber.gorenton.com/events/details/the-jewel-tones-a-mowtown-inspired-vocal-trio-performance-13698
END:VEVENT

END:VCALENDAR
