BEGIN:VCALENDAR
VERSION:2.0
PRODID:-//ChamberMaster//Event Calendar 2.0//EN
METHOD:PUBLISH
X-PUBLISHED-TTL:P3D
REFRESH-INTERVAL:P3D
CALSCALE:GREGORIAN
BEGIN:VEVENT
DTSTART:20210317T180000Z
DTEND:20210317T200000Z
X-MICROSOFT-CDO-ALLDAYEVENT:FALSE
SUMMARY:The Lakeshore St. Patrick's Day Drive-Through
DESCRIPTION:St. Patrick's Day means Spring is around the corner! At The Lakeshore we celebrate with music and food!\n\n\n\nCome by our roundabout and pick up your complimentary package of Irish brown bread and jam both made from scratch by The Lakeshore Culinary team!\n\n\n\nPlease RSVP by March 12 (206) 772-1200 or email TheLakeshoreCR@eraliving.com
X-ALT-DESC;FMTTYPE=text/html:St. Patrick&#39\;s Day means Spring is around the corner! At The Lakeshore we celebrate with music and food!<br />\n<br />\nCome by our roundabout and pick up your complimentary package of Irish brown bread and jam both made from scratch by The Lakeshore Culinary team!<br />\n<br />\nPlease RSVP by March 12 (206) 772-1200 or email TheLakeshoreCR@eraliving.com
LOCATION:The Lakeshore Roundabout
UID:e.16.8139
SEQUENCE:3
DTSTAMP:20260420T200340Z
URL:https://chamber.gorenton.com/events/details/the-lakeshore-st-patrick-s-day-drive-through-8139
END:VEVENT

END:VCALENDAR
