BEGIN:VCALENDAR
VERSION:2.0
PRODID:-//ChamberMaster//Event Calendar 2.0//EN
METHOD:PUBLISH
X-PUBLISHED-TTL:P3D
REFRESH-INTERVAL:P3D
CALSCALE:GREGORIAN
BEGIN:VEVENT
DTSTART:20170907T220000Z
DTEND:20170908T020000Z
X-MICROSOFT-CDO-ALLDAYEVENT:FALSE
SUMMARY:The Landing's Farmers Market
DESCRIPTION:Join Cisco Morris at The Landing's Farmers Market Grand Opening!  Fresh fruits\, vegetables and flowers from local farmers.
X-ALT-DESC;FMTTYPE=text/html:Join Cisco Morris at The Landing&#39\;s Farmers Market Grand Opening! &nbsp\;Fresh fruits\, vegetables and flowers from local farmers. &nbsp\;
LOCATION:The Landing Shopping Center in Renton
UID:e.16.4832
SEQUENCE:3
DTSTAMP:20260425T102407Z
URL:https://chamber.gorenton.com/events/details/the-landing-s-farmers-market-09-07-2017-4832
END:VEVENT

END:VCALENDAR
