BEGIN:VCALENDAR
VERSION:2.0
PRODID:-//ChamberMaster//Event Calendar 2.0//EN
METHOD:PUBLISH
X-PUBLISHED-TTL:P3D
REFRESH-INTERVAL:P3D
CALSCALE:GREGORIAN
BEGIN:VEVENT
DTSTART:20181028T200000Z
DTEND:20181028T210000Z
X-MICROSOFT-CDO-ALLDAYEVENT:FALSE
SUMMARY:The Landing's Halloween Spooktacular
DESCRIPTION:Join us for Halloween Spooktacular featuring trick or treating (look for participating retailers sign on the storefront)\, free trick or treat bags to first 500 people\, face painter and balloon maker.
X-ALT-DESC;FMTTYPE=text/html:Join us for Halloween Spooktacular featuring trick or treating (look for participating retailers sign on the storefront)\, free trick or treat bags to first 500 people\, face painter and balloon maker.
LOCATION:The Landing Plaza (Located in the plaza across from Regal Cinemas) 828 N 10th Pl Renton\, WA 98057
UID:e.16.5939
SEQUENCE:3
DTSTAMP:20260424T134134Z
URL:https://chamber.gorenton.com/events/details/the-landing-s-halloween-spooktacular-5939
END:VEVENT

END:VCALENDAR
