BEGIN:VCALENDAR
VERSION:2.0
PRODID:-//ChamberMaster//Event Calendar 2.0//EN
METHOD:PUBLISH
X-PUBLISHED-TTL:P3D
REFRESH-INTERVAL:P3D
CALSCALE:GREGORIAN
BEGIN:VEVENT
DTSTART:20181026T210000Z
DTEND:20181026T220000Z
X-MICROSOFT-CDO-ALLDAYEVENT:FALSE
SUMMARY:The Life & Times of Bing Crosby
DESCRIPTION:Bing Crosby was America's first superstar having triumphed on radio\, TV\, screen\, and recordings. Come hear John Jensen from the University of Washington OSHER Life Long Learning Institute take an in-depth look into why Bing Crosby's contributions are so cherished by many today.
X-ALT-DESC;FMTTYPE=text/html:Bing Crosby was America&#39\;s first superstar having triumphed on radio\, TV\, screen\, and recordings. Come hear John Jensen from the University of Washington OSHER Life Long Learning Institute take an in-depth look into why Bing Crosby&#39\;s contributions are so cherished by many today.
LOCATION:The Lakeshore 11448 Rainier Ave S Seattle\, WA 98178
UID:e.16.5916
SEQUENCE:3
DTSTAMP:20260424T134756Z
URL:https://chamber.gorenton.com/events/details/the-life-times-of-bing-crosby-5916
END:VEVENT

END:VCALENDAR
