BEGIN:VCALENDAR
VERSION:2.0
PRODID:-//ChamberMaster//Event Calendar 2.0//EN
METHOD:PUBLISH
X-PUBLISHED-TTL:P3D
REFRESH-INTERVAL:P3D
CALSCALE:GREGORIAN
BEGIN:VEVENT
DTSTART:20190419T010000Z
DTEND:20190419T020000Z
X-MICROSOFT-CDO-ALLDAYEVENT:FALSE
SUMMARY:The Locks\, the Lake\, and the Loss of the Black River
DESCRIPTION:Join author David B. Williams for an Arbor Day-Earth Day event. Williams will share stories about the decades of false starts\, the political shenanigans\, and far-reaching social\, economic\, and environmental impacts of the Lake Washington Ship Canal's construction and operation. He will highlight the changes that occurred around Renton\, when the lake dropped nine feet and the Black River began to disappear.
X-ALT-DESC;FMTTYPE=text/html:Join author David B. Williams for an Arbor Day-Earth Day event. Williams will share stories about the decades of false starts\, the political shenanigans\, and far-reaching social\, economic\, and environmental impacts of the Lake Washington Ship Canal&#39\;s construction and operation. He will highlight the changes that occurred around Renton\, when the lake dropped nine feet and the Black River began to disappear.
LOCATION:Renton History Museum 235 Mill Ave. S Renton WA\, 98057
UID:e.16.6269
SEQUENCE:3
DTSTAMP:20260424T052618Z
URL:https://chamber.gorenton.com/events/details/the-locks-the-lake-and-the-loss-of-the-black-river-6269
END:VEVENT

END:VCALENDAR
