BEGIN:VCALENDAR
VERSION:2.0
PRODID:-//ChamberMaster//Event Calendar 2.0//EN
METHOD:PUBLISH
X-PUBLISHED-TTL:P3D
REFRESH-INTERVAL:P3D
CALSCALE:GREGORIAN
BEGIN:VEVENT
DTSTART;VALUE=DATE:20181209
DTEND;VALUE=DATE:20181210
TRANSP:TRANSPARENT
X-MICROSOFT-CDO-ALLDAYEVENT:TRUE
SUMMARY:The Nutcracker (Auburn) - An Evergreen City Ballet Presentation
DESCRIPTION:This season\, make Evergreen City Ballet's performance of THE NUTCRACKER part of your family's holiday tradition. From the magical 25 foot holiday tree\, to the delicate snow fall\, to the beautiful Pas De Deux of the Sugar Plum Fairy and her Cavalier we invite you to discover an enchanted world filled with excitement and joy!
X-ALT-DESC;FMTTYPE=text/html:This season\, make Evergreen City Ballet&rsquo\;s performance of THE NUTCRACKER part of your family&rsquo\;s holiday tradition. From the magical 25 foot holiday tree\, to the delicate snow fall\, to the beautiful Pas De Deux of the Sugar Plum Fairy and her Cavalier&mdash\;we invite you to discover an enchanted world filled with excitement and joy!
LOCATION:Auburn Performing Arts Center 702 4th St. NE Auburn\, WA 98002
UID:e.16.5969
SEQUENCE:3
DTSTAMP:20260424T121914Z
URL:https://chamber.gorenton.com/events/details/the-nutcracker-auburn-an-evergreen-city-ballet-presentation-5969
END:VEVENT

END:VCALENDAR
