BEGIN:VCALENDAR
VERSION:2.0
PRODID:-//ChamberMaster//Event Calendar 2.0//EN
METHOD:PUBLISH
X-PUBLISHED-TTL:P3D
REFRESH-INTERVAL:P3D
CALSCALE:GREGORIAN
BEGIN:VEVENT
DTSTART;VALUE=DATE:20181216
DTEND;VALUE=DATE:20181217
TRANSP:TRANSPARENT
X-MICROSOFT-CDO-ALLDAYEVENT:TRUE
SUMMARY:The Nutcracker (Renton) - An Evergreen City Ballet Presentation
DESCRIPTION:This season\, make Evergreen City Ballet's performance of THE NUTCRACKER part of your family's holiday tradition. From the magical 25 foot holiday tree\, to the delicate snow fall\, to the beautiful Pas De Deux of the Sugar Plum Fairy and her Cavalier we invite you to discover an enchanted world filled with excitement and joy!
X-ALT-DESC;FMTTYPE=text/html:This season\, make Evergreen City Ballet&rsquo\;s performance of THE NUTCRACKER part of your family&rsquo\;s holiday tradition. From the magical 25 foot holiday tree\, to the delicate snow fall\, to the beautiful Pas De Deux of the Sugar Plum Fairy and her Cavalier&mdash\;we invite you to discover an enchanted world filled with excitement and joy!
LOCATION:Renton IKEA Performing Arts Center 400 S. 2nd St. Renton\, WA 98057
UID:e.16.5967
SEQUENCE:3
DTSTAMP:20260424T122948Z
URL:https://chamber.gorenton.com/events/details/the-nutcracker-renton-an-evergreen-city-ballet-presentation-12-16-2018-5967
END:VEVENT

END:VCALENDAR
