BEGIN:VCALENDAR
VERSION:2.0
PRODID:-//ChamberMaster//Event Calendar 2.0//EN
METHOD:PUBLISH
X-PUBLISHED-TTL:P3D
REFRESH-INTERVAL:P3D
CALSCALE:GREGORIAN
BEGIN:VEVENT
DTSTART:20191222T030000Z
DTEND:20191222T030000Z
X-MICROSOFT-CDO-ALLDAYEVENT:FALSE
SUMMARY:The Nutcracker (Renton IKEA P.A.C)- Evergreen City Ballet
DESCRIPTION:Join us for an important milestone as we celebrate our 26th season by presenting the beloved production of Wade Walthall's THE NUTCRACKER. Experience the magical 25-foot holiday tree\, the delicate snow fall\, and the beautifully choreographed dances like the Waltz of the Flowers and the Sugar Plum Pas de Deux. Come discover an enchanted world filled with excitement and joy!
X-ALT-DESC;FMTTYPE=text/html:<span style="margin: 0px\; padding: 0px\; border: 0px\; outline: 0px\; vertical-align: baseline\; background-image: initial\; background-position: 0px 0px\; background-size: initial\; background-repeat: initial\; background-attachment: initial\; background-origin: initial\; background-clip: initial\; color: rgb(116\, 100\, 168)\; font-size: 18px\; font-family: avenir-lt-w01_35-light1475496\, sans-serif\;">Join us for an important milestone as we celebrate our 26th season by presenting the beloved production of&nbsp\;Wade Walthall&#39\;s&nbsp\;</span><span style="margin: 0px\; padding: 0px\; border: 0px\; outline: 0px\; vertical-align: baseline\; background-image: initial\; background-position: 0px 0px\; background-size: initial\; background-repeat: initial\; background-attachment: initial\; background-origin: initial\; background-clip: initial\; color: rgb(116\, 100\, 168)\; font-size: 18px\; font-family: avenir-lt-w01_85-heavy1475544\, sans-serif\;">THE&nbsp\;NUTCRACKER</span><span style="margin: 0px\; padding: 0px\; border: 0px\; outline: 0px\; vertical-align: baseline\; background-image: initial\; background-position: 0px 0px\; background-size: initial\; background-repeat: initial\; background-attachment: initial\; background-origin: initial\; background-clip: initial\; color: rgb(116\, 100\, 168)\; font-size: 18px\; font-family: avenir-lt-w01_35-light1475496\, sans-serif\;">. Experience the magical 25-foot holiday tree\, the delicate snow fall\, and the beautifully choreographed dances like the Waltz of the Flowers and the Sugar Plum Pas de Deux. Come discover an enchanted world filled with excitement and joy!</span>
LOCATION:Renton IKEA P.A.C. 400 S 2nd St. Renton\, WA 98057
UID:e.16.6704
SEQUENCE:3
DTSTAMP:20260423T174807Z
URL:https://chamber.gorenton.com/events/details/the-nutcracker-renton-ikea-p-a-c-evergreen-city-ballet-6704
END:VEVENT

END:VCALENDAR
