BEGIN:VCALENDAR
VERSION:2.0
PRODID:-//ChamberMaster//Event Calendar 2.0//EN
METHOD:PUBLISH
X-PUBLISHED-TTL:P3D
REFRESH-INTERVAL:P3D
CALSCALE:GREGORIAN
BEGIN:VEVENT
DTSTART:20180922T170000Z
DTEND:20180922T220000Z
X-MICROSOFT-CDO-ALLDAYEVENT:FALSE
SUMMARY:The Pet Loss Center Open House
DESCRIPTION:Grab your fur babies and join The Pet Loss Center as we celebrate our Seattle area grand opening with an open house on Saturday\, September 22 from 10 a.m. to 3 p.m at 309 49th Street NE\, Ste. F\, Auburn\, WA\, 98002. A ribbon cutting will commence at 11:00 a.m. followed by a bubble release honoring all the pets that have crossed the rainbow bridge. Refreshments will be served and we'll have treats for our animal friends! Let us know which shelter or rescue you support and we'll make a donation for each person in attendance. We can't wait to meet you!
X-ALT-DESC;FMTTYPE=text/html:Grab your fur babies and join The Pet Loss Center as we celebrate our Seattle area grand opening with an open house on Saturday\, September 22 from 10 a.m. to 3 p.m at 309 49th Street NE\, Ste. F\, Auburn\, WA\, 98002. A ribbon cutting will commence at 11:00 a.m. followed by a bubble release honoring all the pets that have crossed the rainbow bridge. Refreshments will be served and we&rsquo\;ll have treats for our animal friends! Let us know which shelter or rescue you support and we&rsquo\;ll make a donation for each person in attendance. We can&rsquo\;t wait to meet you!
LOCATION:309 49th Street NE\, Ste. F\, Auburn WA 98002
UID:e.16.5897
SEQUENCE:3
DTSTAMP:20260424T153422Z
URL:https://chamber.gorenton.com/events/details/the-pet-loss-center-open-house-5897
END:VEVENT

END:VCALENDAR
