BEGIN:VCALENDAR
VERSION:2.0
PRODID:-//ChamberMaster//Event Calendar 2.0//EN
METHOD:PUBLISH
X-PUBLISHED-TTL:P3D
REFRESH-INTERVAL:P3D
CALSCALE:GREGORIAN
BEGIN:VEVENT
DTSTART:20180526T210000Z
DTEND:20180526T220000Z
X-MICROSOFT-CDO-ALLDAYEVENT:FALSE
SUMMARY:The Prehistory of Renton
DESCRIPTION:Archaeological excavations in the City of Renton beginning in 1979 uncovered the remains of Duwamish Indian villages spanning the period from approximately 1790 AD to approximately 1\,700 years before present. Local archaeologist Michael Shong will discuss these sites and subsequent archaeological discoveries in the Renton vicinity over the past 40 years.
X-ALT-DESC;FMTTYPE=text/html:Archaeological excavations in the City of Renton beginning in 1979 uncovered the remains of Duwamish Indian villages spanning the period from approximately 1790 AD to approximately 1\,700 years before present. Local archaeologist Michael Shong will discuss these sites and subsequent archaeological discoveries in the Renton vicinity over the past 40 years.
LOCATION:RENTON HISTORY MUSEUM 235 Mill Ave. S. Renton\, WA 98057
UID:e.16.5841
SEQUENCE:3
DTSTAMP:20260424T231059Z
URL:https://chamber.gorenton.com/events/details/the-prehistory-of-renton-5841
END:VEVENT

END:VCALENDAR
