BEGIN:VCALENDAR
VERSION:2.0
PRODID:-//ChamberMaster//Event Calendar 2.0//EN
METHOD:PUBLISH
X-PUBLISHED-TTL:P3D
REFRESH-INTERVAL:P3D
CALSCALE:GREGORIAN
BEGIN:VEVENT
DTSTART:20220827T190000Z
DTEND:20220828T030000Z
X-MICROSOFT-CDO-ALLDAYEVENT:FALSE
SUMMARY:The Puget Sound Puppetry Festival
DESCRIPTION:Join the Puget sound puppetry festival as we bring puppet magic to Downtown Renton. We will host a day of performances\, outdoor activities\, and an evening film screening all while inviting you to explore and support the local shops and restaurants.
X-ALT-DESC;FMTTYPE=text/html:Join the Puget sound puppetry festival as we bring puppet magic to Downtown Renton. We will host a day of performances\, outdoor activities\, and an evening film screening all while inviting you to explore and support the local shops and restaurants.
LOCATION:Renton Ikea Performing Arts Center
UID:e.16.13514
SEQUENCE:3
DTSTAMP:20260419T203109Z
URL:https://chamber.gorenton.com/events/details/the-puget-sound-puppetry-festival-13514
END:VEVENT

END:VCALENDAR
