BEGIN:VCALENDAR
VERSION:2.0
PRODID:-//ChamberMaster//Event Calendar 2.0//EN
METHOD:PUBLISH
X-PUBLISHED-TTL:P3D
REFRESH-INTERVAL:P3D
CALSCALE:GREGORIAN
BEGIN:VEVENT
DTSTART:20190329T190000Z
DTEND:20190329T190000Z
X-MICROSOFT-CDO-ALLDAYEVENT:FALSE
SUMMARY:The Secret FBI files of Woody Guthrie & Dave Van Ronk
DESCRIPTION:University of Washington OSHER series continues with Aaron Leonard\, author and contributor to the History News Network. He will speak about two of the most influential folk singers of the twentieth century. Guthrie whose canon continues to shape music today and Van Ronk an early folksong mentor to Bob Dylan. The two political partisans peaked the interest of the FBI. This course will bring life to the link and intrigue between the Second Red Scare and the Great Folk Scare of the sixties.
X-ALT-DESC;FMTTYPE=text/html:University of Washington OSHER series continues with Aaron Leonard\, author and contributor to the History News Network. He will speak about two of the most influential folk singers of the twentieth century. Guthrie whose canon continues to shape music today and Van Ronk an early folksong mentor to Bob Dylan. The two political partisans peaked the interest of the FBI. This course will bring life to the link and intrigue between the Second Red Scare and the Great Folk Scare of the sixties.
LOCATION:The Lakeshore 11448 Rainier Ave S Seattle WA 98178
UID:e.16.6244
SEQUENCE:3
DTSTAMP:20260424T064850Z
URL:https://chamber.gorenton.com/events/details/the-secret-fbi-files-of-woody-guthrie-dave-van-ronk-6244
END:VEVENT

END:VCALENDAR
