BEGIN:VCALENDAR
VERSION:2.0
PRODID:-//ChamberMaster//Event Calendar 2.0//EN
METHOD:PUBLISH
X-PUBLISHED-TTL:P3D
REFRESH-INTERVAL:P3D
CALSCALE:GREGORIAN
BEGIN:VEVENT
DTSTART:20221203T190000Z
DTEND:20221204T000000Z
X-MICROSOFT-CDO-ALLDAYEVENT:FALSE
SUMMARY:Theatre33 Annual Winter Craft Fair
DESCRIPTION:Find the perfect gifts for everyone on your lists and support local crafters and Theatre33! Admission is free\, there is plenty of parking. Light refreshments will be served. Check out the different vendors who will be showcasing their crafts! 10% of all sales will be donated to Theatre33 Youth Group.
X-ALT-DESC;FMTTYPE=text/html:<span style="color:rgb(5\, 5\, 5)\; font-family:segoe ui historic\,segoe ui\,helvetica\,arial\,sans-serif\; font-size:15px">Find the perfect gifts for everyone on your lists and support local crafters and Theatre33! Admission is free\, there is plenty of parking. Light refreshments will be served. Check out the different vendors who will be showcasing their crafts! 10% of all sales will be donated to Theatre33 Youth Group.</span>
LOCATION:Theatre33 1632 116th Ave NE\, Suite D Bellevue\, WA 98004
UID:e.16.13697
SEQUENCE:3
DTSTAMP:20260419T150813Z
URL:https://chamber.gorenton.com/events/details/theatre33-annual-winter-craft-fair-13697
END:VEVENT

END:VCALENDAR
