BEGIN:VCALENDAR
VERSION:2.0
PRODID:-//ChamberMaster//Event Calendar 2.0//EN
METHOD:PUBLISH
X-PUBLISHED-TTL:P3D
REFRESH-INTERVAL:P3D
CALSCALE:GREGORIAN
BEGIN:VEVENT
DTSTART:20190216T220000Z
DTEND:20190217T000000Z
X-MICROSOFT-CDO-ALLDAYEVENT:FALSE
SUMMARY:This\, That\, & The Other Art Show
DESCRIPTION:Explore an afternoon of art and music at The Lakeshore! Over 20 artists will display their latest work at our community for this open themed show. Mary J McInnis will provide an art demo with an enter to win door prize. Enjoy appetizers\, cocktails\, and desserts while our musical guests\, Groove Therapy\, perform in our Lakeview Dining Room.
X-ALT-DESC;FMTTYPE=text/html:Explore an afternoon of art and music at The Lakeshore! Over 20 artists will display their latest work at our community for this open themed show. Mary J McInnis will provide an art demo with an enter to win door prize. Enjoy appetizers\, cocktails\, and desserts while our musical guests\, Groove Therapy\, perform in our Lakeview Dining Room.
LOCATION:The Lakeshore Retirement Community 11448 Rainier Ave S Seattle\, WA 98178
UID:e.16.6075
SEQUENCE:3
DTSTAMP:20260424T075731Z
URL:https://chamber.gorenton.com/events/details/this-that-the-other-art-show-6075
END:VEVENT

END:VCALENDAR
