BEGIN:VCALENDAR
VERSION:2.0
PRODID:-//ChamberMaster//Event Calendar 2.0//EN
METHOD:PUBLISH
X-PUBLISHED-TTL:P3D
REFRESH-INTERVAL:P3D
CALSCALE:GREGORIAN
BEGIN:VEVENT
DTSTART;VALUE=DATE:20181021
DTEND;VALUE=DATE:20181022
TRANSP:TRANSPARENT
X-MICROSOFT-CDO-ALLDAYEVENT:TRUE
SUMMARY:Tip-A-Cop\; RDP to benefit Speciat Olympics\, WA
DESCRIPTION:October is officially Special Olympics Washington Tip-A-Cop Month!\n\n\n\nCome join with Renton Police Department at the Yankee Grill and Sports bar inside the Red Lion Hotel in Renton. We will be raising funds to help support Special Olympics Washington State. Our goal for 2017 is $2017.\n\n\n\nTip-A-Cop is an official Law Enforcement Torch Run Campaign fundraising event in which law enforcement officers and department personnel volunteer their time as "Celebrity Waiters" to collect tips at local restaurants in support of Special Olympics Washington.\n\n\n\nJoin Renton Police Department for Tip-A-Cop!
X-ALT-DESC;FMTTYPE=text/html:<br />\nOctober is officially Special Olympics Washington Tip-A-Cop Month!<br />\n<br />\nCome join with Renton Police Department at the Yankee Grill and Sports bar inside the Red Lion Hotel in Renton. We will be raising funds to help support Special Olympics Washington State. Our goal for 2017 is $2017.<br />\n<br />\nTip-A-Cop is an official Law Enforcement Torch Run Campaign fundraising event in which law enforcement officers and department personnel volunteer their time as &ldquo\;Celebrity Waiters&rdquo\; to collect tips at local restaurants in support of Special Olympics Washington.<br />\n<br />\nJoin Renton Police Department for Tip-A-Cop!
LOCATION:Red Lion Inn\, Yankee Grill 1 S. Grady Way Renton\, WA 98057
UID:e.16.5935
SEQUENCE:3
DTSTAMP:20260424T134131Z
URL:https://chamber.gorenton.com/events/details/tip-a-cop-rdp-to-benefit-speciat-olympics-wa-5935
END:VEVENT

END:VCALENDAR
