BEGIN:VCALENDAR
VERSION:2.0
PRODID:-//ChamberMaster//Event Calendar 2.0//EN
METHOD:PUBLISH
X-PUBLISHED-TTL:P3D
REFRESH-INTERVAL:P3D
CALSCALE:GREGORIAN
BEGIN:VEVENT
DTSTART:20201213T200000Z
DTEND:20201213T230000Z
X-MICROSOFT-CDO-ALLDAYEVENT:FALSE
SUMMARY:Toy drive for Birthday Dreams
DESCRIPTION:We want to announce our 2nd annual toy drive for Birthday Dreams\, our favorite Renton charity. Birthday Dreams provides a dream birthday to homeless children ages 1 to 18 years old.\n\n\n\nWe will be adapting our toy drive from last year because of COVID-19. This year again with The W Group at Compass we will accommodate by doing a drive-by toy drive\, December 13th from noon to 3PM.\n\n\n\nWe will have goodies for those who make it down and because we cannot do Santa this year\, we will have a fun holiday photo booth. We know a lot of you have not been able to get holiday photos and we got you covered!\n\n\n\nPlease see the "wish list" below for toy donations. They have also been getting requests for warm jackets all sizes\, ages 1- 16. Remember all donations must be new. The goal is to make them feel special on their special day which is why it is most important that nothing is used. Party supplies always help also.\n\n\n\nIf you cannot make it but still want to contribute you can click the link below and donate directly to birthday dreams. Or you can reach out to me directly if you can not make the toy drive and I will get any donation items from you.
X-ALT-DESC;FMTTYPE=text/html:<span style="color:rgb(19\, 20\, 32)\; font-family:open sans\,sans-serif\; font-size:18px">We want to announce our 2nd annual toy drive for Birthday Dreams\, our favorite Renton charity. Birthday Dreams provides a dream birthday to homeless children ages 1 to 18 years old.<br />\n<br />\nWe will be adapting our toy drive from last year because of COVID-19. This year again with The W Group at Compass we will accommodate by doing a drive-by toy drive\, December 13th from noon to 3PM.<br />\n<br />\nWe will have goodies for those who make it down and because we cannot do Santa this year\, we will have a fun holiday photo booth. We know a lot of you have not been able to get holiday photos and we got you covered!<br />\n<br />\nPlease see the &ldquo\;wish list&rdquo\; below for toy donations. They have also been getting requests for warm jackets all sizes\, ages 1- 16. Remember all donations must be new. The goal is to make them feel special on their special day which is why it is most important that nothing is used. Party supplies always help also.<br />\n<br />\nIf you cannot make it but still want to contribute you can click the link below and donate directly to birthday dreams. Or you can reach out to me directly if you can not make the toy drive and I will get any donation items from you.</span><br />\n&nbsp\;
LOCATION:
UID:e.16.7114
SEQUENCE:3
DTSTAMP:20260421T000848Z
URL:https://chamber.gorenton.com/events/details/toy-drive-for-birthday-dreams-7114
END:VEVENT

END:VCALENDAR
