BEGIN:VCALENDAR
VERSION:2.0
PRODID:-//ChamberMaster//Event Calendar 2.0//EN
METHOD:PUBLISH
X-PUBLISHED-TTL:P3D
REFRESH-INTERVAL:P3D
CALSCALE:GREGORIAN
BEGIN:VEVENT
DTSTART:20190216T220000Z
DTEND:20190216T234500Z
X-MICROSOFT-CDO-ALLDAYEVENT:FALSE
SUMMARY:Tumbbad (Indian Foreign Film) 2018 Free Film Screening 2-16-19
DESCRIPTION:In the rural village of Tumbbad 1912\, a decaying mansion hides an immeasurable ancestral fortune guarded by something ancient\, sinister\, and monstrous. Motivated by greed that overshadows fear spanning three generations\, an eternal\, horrifying curse will afflicts those who goes too far.
X-ALT-DESC;FMTTYPE=text/html:In the rural village of Tumbbad 1912\, a decaying mansion hides an immeasurable ancestral fortune guarded by something ancient\, sinister\, and monstrous. Motivated by greed that overshadows fear spanning three generations\, an eternal\, horrifying curse will afflicts those who goes too far.
LOCATION:Renton Public KCLS Main Library\, King Parker Meeting Room\, 100 Mill Ave S\, Renton\, WA 98057\, 425-226-6043
UID:e.16.6076
SEQUENCE:3
DTSTAMP:20260424T080730Z
URL:https://chamber.gorenton.com/events/details/tumbbad-indian-foreign-film-2018-free-film-screening-2-16-19-6076
END:VEVENT

END:VCALENDAR
