BEGIN:VCALENDAR
VERSION:2.0
PRODID:-//ChamberMaster//Event Calendar 2.0//EN
METHOD:PUBLISH
X-PUBLISHED-TTL:P3D
REFRESH-INTERVAL:P3D
CALSCALE:GREGORIAN
BEGIN:VEVENT
DTSTART:20220224T190000Z
DTEND:20220225T000000Z
X-MICROSOFT-CDO-ALLDAYEVENT:FALSE
SUMMARY:Two-Day Downsizing Workshop
DESCRIPTION:Join us for our downsizing workshop with the best experts in the industry. Learn things like\, what to do with your stuff\, how to manage the stress and waves of emotions with downsizing\, hear from actual residents who have used downsizing services to help them get over the hurdle of beginning the downsizing process.\n\n\n\nPlease RSVP by February 18th at (206) 772-1200 Space is limited. Guests must be fully vaccinated as well as wear a mask during the presentation.
X-ALT-DESC;FMTTYPE=text/html:Join us for our downsizing workshop with the best experts in the industry. Learn things like\, what to do with your stuff\, how to manage the stress and waves of emotions with downsizing\, hear from actual residents who have used downsizing services to help them get over the hurdle of beginning the downsizing process.<br />\n<br />\nPlease RSVP by February 18th at (206) 772-1200 Space is limited. Guests must be fully vaccinated as well as wear a mask during the presentation.
LOCATION:The Lakeshore Retirement Community
UID:e.16.11411
SEQUENCE:3
DTSTAMP:20260420T055937Z
URL:https://chamber.gorenton.com/events/details/two-day-downsizing-workshop-11411
END:VEVENT

END:VCALENDAR
