BEGIN:VCALENDAR
VERSION:2.0
PRODID:-//ChamberMaster//Event Calendar 2.0//EN
METHOD:PUBLISH
X-PUBLISHED-TTL:P3D
REFRESH-INTERVAL:P3D
CALSCALE:GREGORIAN
BEGIN:VEVENT
DTSTART:20190524T210000Z
DTEND:20190524T220000Z
X-MICROSOFT-CDO-ALLDAYEVENT:FALSE
SUMMARY:University of Washington Osher Lecture
DESCRIPTION:Anne Jenner\, Curator Special Collections at the University of Washington Libraries\, presents: Cities From A Bird's-Eye-View. Join us to view some fascinating examples of these historic maps from the Pacific Northwest population boom from 1870-1910 and learn about the map makers.
X-ALT-DESC;FMTTYPE=text/html:Anne Jenner\, Curator Special Collections at the University of Washington Libraries\, presents: Cities From A Bird&#39\;s-Eye-View. Join us to view some fascinating examples of these historic maps from the Pacific Northwest population boom from 1870-1910 and learn about the map makers.
LOCATION:The Lakeshore 11448 Rainier Ave S Seattle\, WA 98178
UID:e.16.6492
SEQUENCE:3
DTSTAMP:20260424T035242Z
URL:https://chamber.gorenton.com/events/details/university-of-washington-osher-lecture-6492
END:VEVENT

END:VCALENDAR
